BEGIN:VCALENDAR
VERSION:2.0
PRODID:-//Old Andrean Club - ECPv6.15.18//NONSGML v1.0//EN
CALSCALE:GREGORIAN
METHOD:PUBLISH
X-ORIGINAL-URL:https://oldandrean.com
X-WR-CALDESC:Events for Old Andrean Club
REFRESH-INTERVAL;VALUE=DURATION:PT1H
X-Robots-Tag:noindex
X-PUBLISHED-TTL:PT1H
BEGIN:VTIMEZONE
TZID:Africa/Johannesburg
BEGIN:STANDARD
TZOFFSETFROM:+0200
TZOFFSETTO:+0200
TZNAME:SAST
DTSTART:20250101T000000
END:STANDARD
END:VTIMEZONE
BEGIN:VEVENT
DTSTART;TZID=Africa/Johannesburg:20260612T080000
DTEND;TZID=Africa/Johannesburg:20260613T170000
DTSTAMP:20260421T141103
CREATED:20260121T120320Z
LAST-MODIFIED:20260410T104915Z
UID:237-1781251200-1781370000@oldandrean.com
SUMMARY:10 Year Reunion for Class of 2016
DESCRIPTION:Class of 2016 | 10 Year Reunion\nFriday 12th to Saturday 13 June 2026\nKDay St Andrew’s College vs Kingswood (Home) \nCost: R500 per person \n(Inclusive of a Reunion Dinner on the Friday evening and a tea on Saturday morning) \nBookings are through our online system only\, so let us know if you would like us to send the link to you. \nWe have already sent the link to all those for whom we had email addresses. \nContact Bev McCarthy at b.mccarthy@sacschool.com \nPROVISIONAL PROGRAMME or click here \nATTENDANCE LIST \nMakhanda Accommodation website
URL:https://oldandrean.com/oa-event/10-year-reunion-for-class-of-2016/
CATEGORIES:Reunions
ORGANIZER;CN="Bridget Rippon":MAILTO:b.rippon@sacschool.com
END:VEVENT
END:VCALENDAR